BEGIN:VCALENDAR
VERSION:2.0
PRODID:-//Fondo Formación Euskadi - ECPv6.15.17.1//NONSGML v1.0//EN
CALSCALE:GREGORIAN
METHOD:PUBLISH
X-WR-CALNAME:Fondo Formación Euskadi
X-ORIGINAL-URL:https://www.ffeuskadi.net
X-WR-CALDESC:Eventos para Fondo Formación Euskadi
REFRESH-INTERVAL;VALUE=DURATION:PT1H
X-Robots-Tag:noindex
X-PUBLISHED-TTL:PT1H
BEGIN:VTIMEZONE
TZID:Europe/Madrid
BEGIN:DAYLIGHT
TZOFFSETFROM:+0100
TZOFFSETTO:+0200
TZNAME:CEST
DTSTART:20210328T010000
END:DAYLIGHT
BEGIN:STANDARD
TZOFFSETFROM:+0200
TZOFFSETTO:+0100
TZNAME:CET
DTSTART:20211031T010000
END:STANDARD
BEGIN:DAYLIGHT
TZOFFSETFROM:+0100
TZOFFSETTO:+0200
TZNAME:CEST
DTSTART:20220327T010000
END:DAYLIGHT
BEGIN:STANDARD
TZOFFSETFROM:+0200
TZOFFSETTO:+0100
TZNAME:CET
DTSTART:20221030T010000
END:STANDARD
BEGIN:DAYLIGHT
TZOFFSETFROM:+0100
TZOFFSETTO:+0200
TZNAME:CEST
DTSTART:20230326T010000
END:DAYLIGHT
BEGIN:STANDARD
TZOFFSETFROM:+0200
TZOFFSETTO:+0100
TZNAME:CET
DTSTART:20231029T010000
END:STANDARD
BEGIN:DAYLIGHT
TZOFFSETFROM:+0100
TZOFFSETTO:+0200
TZNAME:CEST
DTSTART:20240331T010000
END:DAYLIGHT
BEGIN:STANDARD
TZOFFSETFROM:+0200
TZOFFSETTO:+0100
TZNAME:CET
DTSTART:20241027T010000
END:STANDARD
BEGIN:DAYLIGHT
TZOFFSETFROM:+0100
TZOFFSETTO:+0200
TZNAME:CEST
DTSTART:20250330T010000
END:DAYLIGHT
BEGIN:STANDARD
TZOFFSETFROM:+0200
TZOFFSETTO:+0100
TZNAME:CET
DTSTART:20251026T010000
END:STANDARD
BEGIN:DAYLIGHT
TZOFFSETFROM:+0100
TZOFFSETTO:+0200
TZNAME:CEST
DTSTART:20260329T010000
END:DAYLIGHT
BEGIN:STANDARD
TZOFFSETFROM:+0200
TZOFFSETTO:+0100
TZNAME:CET
DTSTART:20261025T010000
END:STANDARD
BEGIN:DAYLIGHT
TZOFFSETFROM:+0100
TZOFFSETTO:+0200
TZNAME:CEST
DTSTART:20270328T010000
END:DAYLIGHT
BEGIN:STANDARD
TZOFFSETFROM:+0200
TZOFFSETTO:+0100
TZNAME:CET
DTSTART:20271031T010000
END:STANDARD
BEGIN:DAYLIGHT
TZOFFSETFROM:+0100
TZOFFSETTO:+0200
TZNAME:CEST
DTSTART:20280326T010000
END:DAYLIGHT
BEGIN:STANDARD
TZOFFSETFROM:+0200
TZOFFSETTO:+0100
TZNAME:CET
DTSTART:20281029T010000
END:STANDARD
BEGIN:DAYLIGHT
TZOFFSETFROM:+0100
TZOFFSETTO:+0200
TZNAME:CEST
DTSTART:20290325T010000
END:DAYLIGHT
BEGIN:STANDARD
TZOFFSETFROM:+0200
TZOFFSETTO:+0100
TZNAME:CET
DTSTART:20291028T010000
END:STANDARD
BEGIN:DAYLIGHT
TZOFFSETFROM:+0100
TZOFFSETTO:+0200
TZNAME:CEST
DTSTART:20300331T010000
END:DAYLIGHT
BEGIN:STANDARD
TZOFFSETFROM:+0200
TZOFFSETTO:+0100
TZNAME:CET
DTSTART:20301027T010000
END:STANDARD
BEGIN:DAYLIGHT
TZOFFSETFROM:+0100
TZOFFSETTO:+0200
TZNAME:CEST
DTSTART:20310330T010000
END:DAYLIGHT
BEGIN:STANDARD
TZOFFSETFROM:+0200
TZOFFSETTO:+0100
TZNAME:CET
DTSTART:20311026T010000
END:STANDARD
BEGIN:DAYLIGHT
TZOFFSETFROM:+0100
TZOFFSETTO:+0200
TZNAME:CEST
DTSTART:20320328T010000
END:DAYLIGHT
BEGIN:STANDARD
TZOFFSETFROM:+0200
TZOFFSETTO:+0100
TZNAME:CET
DTSTART:20321031T010000
END:STANDARD
BEGIN:DAYLIGHT
TZOFFSETFROM:+0100
TZOFFSETTO:+0200
TZNAME:CEST
DTSTART:20330327T010000
END:DAYLIGHT
BEGIN:STANDARD
TZOFFSETFROM:+0200
TZOFFSETTO:+0100
TZNAME:CET
DTSTART:20331030T010000
END:STANDARD
BEGIN:DAYLIGHT
TZOFFSETFROM:+0100
TZOFFSETTO:+0200
TZNAME:CEST
DTSTART:20340326T010000
END:DAYLIGHT
BEGIN:STANDARD
TZOFFSETFROM:+0200
TZOFFSETTO:+0100
TZNAME:CET
DTSTART:20341029T010000
END:STANDARD
BEGIN:DAYLIGHT
TZOFFSETFROM:+0100
TZOFFSETTO:+0200
TZNAME:CEST
DTSTART:20350325T010000
END:DAYLIGHT
BEGIN:STANDARD
TZOFFSETFROM:+0200
TZOFFSETTO:+0100
TZNAME:CET
DTSTART:20351028T010000
END:STANDARD
BEGIN:DAYLIGHT
TZOFFSETFROM:+0100
TZOFFSETTO:+0200
TZNAME:CEST
DTSTART:20360330T010000
END:DAYLIGHT
BEGIN:STANDARD
TZOFFSETFROM:+0200
TZOFFSETTO:+0100
TZNAME:CET
DTSTART:20361026T010000
END:STANDARD
END:VTIMEZONE
BEGIN:VEVENT
DTSTART;VALUE=DATE:20221107
DTEND;VALUE=DATE:20270509
DTSTAMP:20260423T115550
CREATED:20220208T112451Z
LAST-MODIFIED:20260318T134346Z
UID:10001893-1667779200-1809820799@www.ffeuskadi.net
SUMMARY:Carné Profesional de Operador de Grúas Móviles Autopropulsadas Categoría A y B
DESCRIPTION:OBTÉN TU CERTIFICADO CON TODAS LAS GARANTÍAS
URL:https://www.ffeuskadi.net/curso/carne-grua-movil-autopropulsada/2022-11-07/
CATEGORIES:Manejo de maquinaria
ATTACH;FMTTYPE=image/jpeg:https://www.ffeuskadi.net/wp-content/uploads/2022/02/Curso-Grua-movil-autopropulsada-3.jpg
END:VEVENT
BEGIN:VEVENT
DTSTART;TZID=Europe/Madrid:20230101T051000
DTEND;TZID=Europe/Madrid:20331211T102000
DTSTAMP:20260423T115550
CREATED:20220919T083947Z
LAST-MODIFIED:20260308T140840Z
UID:10001525-1672549800-2017909200@www.ffeuskadi.net
SUMMARY:Mindfulness nivel superior
DESCRIPTION:
URL:https://www.ffeuskadi.net/curso/mindfulness-nivel-superior-2103-01-01-2/2023-01-01/1/
CATEGORIES:Habilidades para el desarrollo personal y profesional
ATTACH;FMTTYPE=image/jpeg:https://www.ffeuskadi.net/wp-content/uploads/2022/09/mindfulness-nivel-superior.jpg
END:VEVENT
BEGIN:VEVENT
DTSTART;TZID=Europe/Madrid:20230101T051000
DTEND;TZID=Europe/Madrid:20350101T102000
DTSTAMP:20260423T115550
CREATED:20241107T093338Z
LAST-MODIFIED:20260415T074402Z
UID:10001957-1672549800-2051259600@www.ffeuskadi.net
SUMMARY:Lengua de signos II
DESCRIPTION:
URL:https://www.ffeuskadi.net/curso/lengua-de-signos-ii/2023-01-01/
CATEGORIES:Habilidades para el desarrollo personal y profesional,Idiomas,Otros
ATTACH;FMTTYPE=image/jpeg:https://www.ffeuskadi.net/wp-content/uploads/2024/11/Signos-3.jpg
END:VEVENT
BEGIN:VEVENT
DTSTART;TZID=Europe/Madrid:20230101T051000
DTEND;TZID=Europe/Madrid:20350101T102000
DTSTAMP:20260423T115550
CREATED:20241122T103456Z
LAST-MODIFIED:20260325T074112Z
UID:10001967-1672549800-2051259600@www.ffeuskadi.net
SUMMARY:Importancia y beneficios de la inteligencia emocional en la salud II
DESCRIPTION:
URL:https://www.ffeuskadi.net/curso/importancia-y-beneficios-de-la-inteligencia-emocional-en-la-salud-ii/2023-01-01/
CATEGORIES:Habilidades para el desarrollo personal y profesional
ATTACH;FMTTYPE=image/jpeg:https://www.ffeuskadi.net/wp-content/uploads/2024/11/Emocional2.jpg
END:VEVENT
BEGIN:VEVENT
DTSTART;TZID=Europe/Madrid:20230101T051000
DTEND;TZID=Europe/Madrid:20350101T102000
DTSTAMP:20260423T115550
CREATED:20241127T115012Z
LAST-MODIFIED:20260317T161824Z
UID:10001642-1672549800-2051259600@www.ffeuskadi.net
SUMMARY:Cocina tradicional. Nuevas tendencias
DESCRIPTION:
URL:https://www.ffeuskadi.net/curso/cocina-tradicional-nuevas-tendencias/2023-01-01/
CATEGORIES:Hostelería y turismo
ATTACH;FMTTYPE=image/jpeg:https://www.ffeuskadi.net/wp-content/uploads/2024/11/Cocina-tradicional.jpg
END:VEVENT
BEGIN:VEVENT
DTSTART;TZID=Europe/Madrid:20230101T051000
DTEND;TZID=Europe/Madrid:20350101T102000
DTSTAMP:20260423T115550
CREATED:20241127T120611Z
LAST-MODIFIED:20260127T080130Z
UID:10001973-1672549800-2051259600@www.ffeuskadi.net
SUMMARY:Aprende\, colabora y transforma tu empresa con la inteligencia artificial generativa. Adecuación
DESCRIPTION:
URL:https://www.ffeuskadi.net/curso/aprende-colabora-y-transforma-tu-empresa-con-la-inteligencia-artificial-generativa-adecuacion/2023-01-01/
CATEGORIES:Informática, ofimática y transformación digital
ATTACH;FMTTYPE=image/jpeg:https://www.ffeuskadi.net/wp-content/uploads/2024/11/IA.jpg
END:VEVENT
BEGIN:VEVENT
DTSTART;TZID=Europe/Madrid:20230101T051000
DTEND;TZID=Europe/Madrid:20350101T102000
DTSTAMP:20260423T115550
CREATED:20241127T122150Z
LAST-MODIFIED:20260127T075337Z
UID:10001975-1672549800-2051259600@www.ffeuskadi.net
SUMMARY:Aprende\, colabora y transforma tu empresa con la inteligencia artificial generativa. Interacción
DESCRIPTION:
URL:https://www.ffeuskadi.net/curso/aprende-colabora-y-transforma-tu-empresa-con-la-inteligencia-artificial-generativa-interaccion/2023-01-01/
CATEGORIES:Informática, ofimática y transformación digital
ATTACH;FMTTYPE=image/jpeg:https://www.ffeuskadi.net/wp-content/uploads/2024/11/IA2.jpg
END:VEVENT
BEGIN:VEVENT
DTSTART;TZID=Europe/Madrid:20230101T051000
DTEND;TZID=Europe/Madrid:20291201T102000
DTSTAMP:20260423T115550
CREATED:20241127T154937Z
LAST-MODIFIED:20260318T071435Z
UID:10001991-1672549800-1890814800@www.ffeuskadi.net
SUMMARY:Soldadura
DESCRIPTION:
URL:https://www.ffeuskadi.net/curso/soldadura/2023-01-01/
CATEGORIES:Soldadura
ATTACH;FMTTYPE=image/jpeg:https://www.ffeuskadi.net/wp-content/uploads/2024/11/Soldadura.jpg
END:VEVENT
BEGIN:VEVENT
DTSTART;TZID=Europe/Madrid:20230101T051000
DTEND;TZID=Europe/Madrid:20350101T102000
DTSTAMP:20260423T115550
CREATED:20251215T121848Z
LAST-MODIFIED:20260416T083028Z
UID:10001751-1672549800-2051259600@www.ffeuskadi.net
SUMMARY:Aprendiendo lengua de signos
DESCRIPTION:
URL:https://www.ffeuskadi.net/curso/aprendiendo-lengua-de-signos-2/2023-01-01/
CATEGORIES:Habilidades para el desarrollo personal y profesional,Otros
ATTACH;FMTTYPE=image/jpeg:https://www.ffeuskadi.net/wp-content/uploads/2024/11/signos.jpg
END:VEVENT
BEGIN:VEVENT
DTSTART;TZID=Europe/Madrid:20230101T051000
DTEND;TZID=Europe/Madrid:20350101T102000
DTSTAMP:20260423T115550
CREATED:20260409T104014Z
LAST-MODIFIED:20260409T104357Z
UID:10002579-1672549800-2051259600@www.ffeuskadi.net
SUMMARY:Aprendiendo lengua de signos
DESCRIPTION:
URL:https://www.ffeuskadi.net/curso/aprendiendo-lengua-de-signos/2023-01-01/
CATEGORIES:Habilidades para el desarrollo personal y profesional,Otros
ATTACH;FMTTYPE=image/jpeg:https://www.ffeuskadi.net/wp-content/uploads/2024/11/signos.jpg
END:VEVENT
BEGIN:VEVENT
DTSTART;TZID=Europe/Madrid:20230101T051000
DTEND;TZID=Europe/Madrid:20350101T102000
DTSTAMP:20260423T115550
CREATED:20260409T104301Z
LAST-MODIFIED:20260409T104301Z
UID:10002585-1672549800-2051259600@www.ffeuskadi.net
SUMMARY:Lengua de signos II
DESCRIPTION:
URL:https://www.ffeuskadi.net/curso/lengua-de-signos-ii-3/2023-01-01/
CATEGORIES:Habilidades para el desarrollo personal y profesional,Otros
ATTACH;FMTTYPE=image/jpeg:https://www.ffeuskadi.net/wp-content/uploads/2024/11/Signos-3.jpg
END:VEVENT
BEGIN:VEVENT
DTSTART;TZID=Europe/Madrid:20230201T051000
DTEND;TZID=Europe/Madrid:20291201T102000
DTSTAMP:20260423T115550
CREATED:20260311T080514Z
LAST-MODIFIED:20260407T104050Z
UID:10002164-1675228200-1890814800@www.ffeuskadi.net
SUMMARY:Limpieza de superficies y mobiliario en edificios y locales
DESCRIPTION:
URL:https://www.ffeuskadi.net/curso/limpieza-de-superficies-y-mobiliario-en-edificios-y-locales-3-2/2023-02-01/
CATEGORIES:Limpieza y mantenimiento
ATTACH;FMTTYPE=image/jpeg:https://www.ffeuskadi.net/wp-content/uploads/2025/01/cp-limpieza.jpg
END:VEVENT
BEGIN:VEVENT
DTSTART;TZID=Europe/Madrid:20230201T051000
DTEND;TZID=Europe/Madrid:20291201T102000
DTSTAMP:20260423T115550
CREATED:20260407T101952Z
LAST-MODIFIED:20260407T101952Z
UID:10002539-1675228200-1890814800@www.ffeuskadi.net
SUMMARY:Limpieza de superficies y mobiliario en edificios y locales
DESCRIPTION:
URL:https://www.ffeuskadi.net/curso/limpieza-de-superficies-y-mobiliario-en-edificios-y-locales/2023-02-01/
CATEGORIES:Limpieza y mantenimiento
ATTACH;FMTTYPE=image/jpeg:https://www.ffeuskadi.net/wp-content/uploads/2025/01/cp-limpieza.jpg
END:VEVENT
BEGIN:VEVENT
DTSTART;TZID=Europe/Madrid:20231101T090000
DTEND;TZID=Europe/Madrid:20290903T190000
DTSTAMP:20260423T115550
CREATED:20250123T132532Z
LAST-MODIFIED:20260407T095150Z
UID:10002024-1698829200-1883156400@www.ffeuskadi.net
SUMMARY:Atención y apoyo en el cuidado de la etapa final de la vida en domicilios e instituciones
DESCRIPTION:
URL:https://www.ffeuskadi.net/curso/atencion-y-apoyo-en-el-cuidado-de-la-etapa-final-de-la-vida-en-domicilios-e-instituciones/2023-11-01/
CATEGORIES:Atención sociosanitaria
ATTACH;FMTTYPE=image/jpeg:https://www.ffeuskadi.net/wp-content/uploads/2024/11/Atencion-etapa-final.jpg
END:VEVENT
BEGIN:VEVENT
DTSTART;TZID=Europe/Madrid:20231101T090000
DTEND;TZID=Europe/Madrid:20260903T190000
DTSTAMP:20260423T115550
CREATED:20250123T132706Z
LAST-MODIFIED:20250324T115611Z
UID:10002026-1698829200-1788462000@www.ffeuskadi.net
SUMMARY:Atención integral y centrada en la persona para profesionales de atención continuada en centros y domicilios
DESCRIPTION:
URL:https://www.ffeuskadi.net/curso/atencion-integral-y-centrada-en-la-persona-para-profesionales-de-atencion-continuada-en-centros-y-domicilios/2023-11-01/
CATEGORIES:Atención sociosanitaria
ATTACH;FMTTYPE=image/jpeg:https://www.ffeuskadi.net/wp-content/uploads/2024/11/Atencion-integrada-persona.jpg
END:VEVENT
BEGIN:VEVENT
DTSTART;TZID=Europe/Madrid:20231101T090000
DTEND;TZID=Europe/Madrid:20290903T190000
DTSTAMP:20260423T115550
CREATED:20260407T095120Z
LAST-MODIFIED:20260407T095132Z
UID:10002519-1698829200-1883156400@www.ffeuskadi.net
SUMMARY:Atención y apoyo en el cuidado de la etapa final de la vida en domicilios e instituciones
DESCRIPTION:
URL:https://www.ffeuskadi.net/curso/atencion-y-apoyo-en-el-cuidado-de-la-etapa-final-de-la-vida-en-domicilios-e-instituciones-2/2023-11-01/
CATEGORIES:Atención sociosanitaria
ATTACH;FMTTYPE=image/jpeg:https://www.ffeuskadi.net/wp-content/uploads/2024/11/Atencion-etapa-final.jpg
END:VEVENT
BEGIN:VEVENT
DTSTART;TZID=Europe/Madrid:20231101T090000
DTEND;TZID=Europe/Madrid:20290903T190000
DTSTAMP:20260423T115550
CREATED:20260407T101517Z
LAST-MODIFIED:20260407T102516Z
UID:10002535-1698829200-1883156400@www.ffeuskadi.net
SUMMARY:Atención y apoyo en el cuidado de la etapa final de la vida en domicilios e instituciones
DESCRIPTION:
URL:https://www.ffeuskadi.net/curso/atencion-y-apoyo-en-el-cuidado-de-la-etapa-final-de-la-vida-en-domicilios-e-instituciones-3/2023-11-01/
CATEGORIES:Atención sociosanitaria
ATTACH;FMTTYPE=image/jpeg:https://www.ffeuskadi.net/wp-content/uploads/2024/11/Atencion-etapa-final.jpg
END:VEVENT
BEGIN:VEVENT
DTSTART;VALUE=DATE:20231107
DTEND;VALUE=DATE:20270509
DTSTAMP:20260423T115550
CREATED:20230307T091740Z
LAST-MODIFIED:20260317T105046Z
UID:10001948-1699315200-1809813599@www.ffeuskadi.net
SUMMARY:Carné Profesional de Operador de Grúa Torre
DESCRIPTION:OBTÉN TU CERTIFICADO CON TODAS LAS GARANTÍAS
URL:https://www.ffeuskadi.net/curso/curso-operador-grua-torre/2023-11-07/
CATEGORIES:Manejo de maquinaria
ATTACH;FMTTYPE=image/jpeg:https://www.ffeuskadi.net/wp-content/uploads/2024/02/CURSO-GRUA-TORRE-.jpg
END:VEVENT
BEGIN:VEVENT
DTSTART;TZID=Europe/Madrid:20231201T051000
DTEND;TZID=Europe/Madrid:20291001T082000
DTSTAMP:20260423T115550
CREATED:20220919T084015Z
LAST-MODIFIED:20260317T162841Z
UID:10001914-1701407400-1885537200@www.ffeuskadi.net
SUMMARY:Soldadura TIG en otras posiciones
DESCRIPTION:
URL:https://www.ffeuskadi.net/curso/soldadura-tig-en-otras-posiciones-2103-01-01-2/2023-12-01/
CATEGORIES:Soldadura
ATTACH;FMTTYPE=image/jpeg:https://www.ffeuskadi.net/wp-content/uploads/2022/09/Soldadura-TIG-otras-posiciones.jpg
END:VEVENT
BEGIN:VEVENT
DTSTART;TZID=Europe/Madrid:20231201T051000
DTEND;TZID=Europe/Madrid:20291201T102000
DTSTAMP:20260423T115550
CREATED:20231211T095334Z
LAST-MODIFIED:20260317T105902Z
UID:10001587-1701407400-1890814800@www.ffeuskadi.net
SUMMARY:Gestión del estrés con Yoga - Nivel 1
DESCRIPTION:
URL:https://www.ffeuskadi.net/curso/gestion-estres-con-yoga/2023-12-01/
CATEGORIES:Habilidades para el desarrollo personal y profesional
ATTACH;FMTTYPE=image/jpeg:https://www.ffeuskadi.net/wp-content/uploads/2023/12/estres-yoga-1.jpg
END:VEVENT
BEGIN:VEVENT
DTSTART;TZID=Europe/Madrid:20240101T051000
DTEND;TZID=Europe/Madrid:20330101T102000
DTSTAMP:20260423T115550
CREATED:20220919T083936Z
LAST-MODIFIED:20260127T080246Z
UID:10001516-1704085800-1988187600@www.ffeuskadi.net
SUMMARY:Acompañamiento en el proceso de duelo
DESCRIPTION:
URL:https://www.ffeuskadi.net/curso/preparacion-y-acompanamiento-en-la-muerte-y-el-duelo-2103-01-01/2024-01-01/
CATEGORIES:Atención sociosanitaria
ATTACH;FMTTYPE=image/jpeg:https://www.ffeuskadi.net/wp-content/uploads/2022/09/muerte-duelo.jpg
END:VEVENT
BEGIN:VEVENT
DTSTART;TZID=Europe/Madrid:20240101T051000
DTEND;TZID=Europe/Madrid:20291001T082000
DTSTAMP:20260423T115550
CREATED:20220919T084015Z
LAST-MODIFIED:20260317T091134Z
UID:10001916-1704085800-1885537200@www.ffeuskadi.net
SUMMARY:Soldadura TIG en posición horizontal
DESCRIPTION:
URL:https://www.ffeuskadi.net/curso/soldadura-tig-en-posicion-horizontal-2/2024-01-01/
CATEGORIES:Soldadura
ATTACH;FMTTYPE=image/jpeg:https://www.ffeuskadi.net/wp-content/uploads/2022/09/curso-tig5.jpg
END:VEVENT
BEGIN:VEVENT
DTSTART;TZID=Europe/Madrid:20240101T051000
DTEND;TZID=Europe/Madrid:20261201T102000
DTSTAMP:20260423T115550
CREATED:20250123T132224Z
LAST-MODIFIED:20260407T095508Z
UID:10002022-1704085800-1796120400@www.ffeuskadi.net
SUMMARY:Actividades auxiliares de limpieza de inmuebles y superficies
DESCRIPTION:
URL:https://www.ffeuskadi.net/curso/actividades-auxiliares-de-limpieza-de-inmuebles-y-superficies/2024-01-01/
CATEGORIES:Limpieza y mantenimiento
ATTACH;FMTTYPE=image/jpeg:https://www.ffeuskadi.net/wp-content/uploads/2024/11/Activ-aux-limpi-desempleados-min.jpg
END:VEVENT
BEGIN:VEVENT
DTSTART;VALUE=DATE:20240107
DTEND;VALUE=DATE:20270509
DTSTAMP:20260423T115550
CREATED:20250305T144118Z
LAST-MODIFIED:20260318T123630Z
UID:10002036-1704585600-1809813599@www.ffeuskadi.net
SUMMARY:Carné Profesional de Operador de Grúa Torre
DESCRIPTION:OBTÉN TU CERTIFICADO CON TODAS LAS GARANTÍAS
URL:https://www.ffeuskadi.net/curso/carne-profesional-de-operador-de-grua-torre-2/2024-01-07/
CATEGORIES:Manejo de maquinaria
ATTACH;FMTTYPE=image/jpeg:https://www.ffeuskadi.net/wp-content/uploads/2024/02/CURSO-GRUA-TORRE-.jpg
END:VEVENT
BEGIN:VEVENT
DTSTART;TZID=Europe/Madrid:20240307T000000
DTEND;TZID=Europe/Madrid:20300307T000000
DTSTAMP:20260423T115550
CREATED:20260318T080458Z
LAST-MODIFIED:20260324T094745Z
UID:10002373-1709769600-1899072000@www.ffeuskadi.net
SUMMARY:Gestión de almacén y manejo de carretilla UNE 58451 - PICE
DESCRIPTION:UNA FORMACIÓN CON TODAS LAS GARANTÍAS
URL:https://www.ffeuskadi.net/curso/gestion-de-almacen-y-manejo-de-carretilla-une-58451-pice/2024-03-07/
CATEGORIES:Logística y gestión de almacén,Manejo de maquinaria
ATTACH;FMTTYPE=image/jpeg:https://www.ffeuskadi.net/wp-content/uploads/2024/03/logistica-almacen.jpg
END:VEVENT
BEGIN:VEVENT
DTSTART;TZID=Europe/Madrid:20240307T000000
DTEND;TZID=Europe/Madrid:20290307T000000
DTSTAMP:20260423T115550
CREATED:20260318T081038Z
LAST-MODIFIED:20260422T071519Z
UID:10002376-1709769600-1867536000@www.ffeuskadi.net
SUMMARY:Multiasistencia para construcción y reformas de espacios habitacionales - PICE
DESCRIPTION:UNA FORMACIÓN CON TODAS LAS GARANTÍAS
URL:https://www.ffeuskadi.net/curso/multiasistencia-para-construccion-y-reformas-de-espacios-habitacionales-pice-2/2024-03-07/
CATEGORIES:Mantenimiento de instalaciones,Otros
ATTACH;FMTTYPE=image/jpeg:https://www.ffeuskadi.net/wp-content/uploads/2026/03/multiasistencia-reformas.jpg
END:VEVENT
BEGIN:VEVENT
DTSTART;TZID=Europe/Madrid:20240801T051000
DTEND;TZID=Europe/Madrid:20291201T102000
DTSTAMP:20260423T115550
CREATED:20241007T080031Z
LAST-MODIFIED:20260422T095107Z
UID:10001955-1722489000-1890814800@www.ffeuskadi.net
SUMMARY:Aplicación de la hoja de cálculo Excel. Nivel avanzado
DESCRIPTION:
URL:https://www.ffeuskadi.net/curso/aplicacion-de-la-hoja-de-calculo-excel-nivel-avanzado-formacion-digital/2024-08-01/
CATEGORIES:Informática, ofimática y transformación digital
ATTACH;FMTTYPE=image/jpeg:https://www.ffeuskadi.net/wp-content/uploads/2024/10/Excel-curso.jpg
END:VEVENT
BEGIN:VEVENT
DTSTART;TZID=Europe/Madrid:20241201T051000
DTEND;TZID=Europe/Madrid:20291201T102000
DTSTAMP:20260423T115550
CREATED:20250122T075036Z
LAST-MODIFIED:20260325T085611Z
UID:10001405-1733029800-1890814800@www.ffeuskadi.net
SUMMARY:CP Limpieza de superficies y mobiliario en edificios y locales
DESCRIPTION:
URL:https://www.ffeuskadi.net/curso/cp-limpieza-de-superficies-y-mobiliario-en-edificios-y-locales-3/2024-12-01/
CATEGORIES:Limpieza y mantenimiento
ATTACH;FMTTYPE=image/jpeg:https://www.ffeuskadi.net/wp-content/uploads/2025/01/cp-limpieza.jpg
END:VEVENT
BEGIN:VEVENT
DTSTART;TZID=Europe/Madrid:20241201T051000
DTEND;TZID=Europe/Madrid:20290101T102000
DTSTAMP:20260423T115550
CREATED:20251215T084443Z
LAST-MODIFIED:20260127T142533Z
UID:10002124-1733029800-1861957200@www.ffeuskadi.net
SUMMARY:Mindfulness
DESCRIPTION:
URL:https://www.ffeuskadi.net/curso/mindfulness/2024-12-01/
CATEGORIES:Habilidades para el desarrollo personal y profesional
ATTACH;FMTTYPE=image/jpeg:https://www.ffeuskadi.net/wp-content/uploads/2023/12/Curso-mindfulness.jpg
END:VEVENT
BEGIN:VEVENT
DTSTART;TZID=Europe/Madrid:20241201T051000
DTEND;TZID=Europe/Madrid:20291201T102000
DTSTAMP:20260423T115550
CREATED:20251215T113344Z
LAST-MODIFIED:20260317T090515Z
UID:10002143-1733029800-1890814800@www.ffeuskadi.net
SUMMARY:Iniciación a Pilates
DESCRIPTION:
URL:https://www.ffeuskadi.net/curso/iniciacion-a-pilates-2/2024-12-01/
CATEGORIES:Otros,Seguridad y medioambiente
ATTACH;FMTTYPE=image/jpeg:https://www.ffeuskadi.net/wp-content/uploads/2022/12/iniciacion-pilates-curso.jpg
END:VEVENT
END:VCALENDAR